BEGIN:VCALENDAR
VERSION:2.0
PRODID:-//San Diego Voip, LLC - ECPv5.3.1.1//NONSGML v1.0//EN
CALSCALE:GREGORIAN
METHOD:PUBLISH
X-WR-CALNAME:San Diego Voip, LLC
X-ORIGINAL-URL:https://sandiegovoip.com
X-WR-CALDESC:Events for San Diego Voip, LLC
BEGIN:VTIMEZONE
TZID:UTC
BEGIN:STANDARD
TZOFFSETFROM:+0000
TZOFFSETTO:+0000
TZNAME:UTC
DTSTART:20160101T000000
END:STANDARD
END:VTIMEZONE
BEGIN:VEVENT
DTSTART;TZID=UTC:20161220T080000
DTEND;TZID=UTC:20161220T170000
DTSTAMP:20260424T033131
CREATED:20161220T123917Z
LAST-MODIFIED:20161220T123917Z
UID:2351-1482220800-1482253200@sandiegovoip.com
SUMMARY:Movie Marathon
DESCRIPTION:What’s the point of going out? We’re just going to wind up back here anyway. I’m going to the back seat of my car\, with the woman I
URL:https://sandiegovoip.com/event/movie-marathon/
LOCATION:Doug Fir Lounge\, 830 E. Burnside St.\, Portland\, 97214\, United States
ATTACH;FMTTYPE=image/jpeg:https://sandiegovoip.com/wp-content/uploads/2016/12/team-4.jpg
ORGANIZER;CN="Elvis%20Presley":MAILTO:rocknroll@hotmail.com
END:VEVENT
END:VCALENDAR